BEGIN:VCALENDAR
VERSION:2.0
PRODID:-//Niederösterreichischer Eisstocksportverband - ECPv6.8.3//NONSGML v1.0//EN
CALSCALE:GREGORIAN
METHOD:PUBLISH
X-WR-CALNAME:Niederösterreichischer Eisstocksportverband
X-ORIGINAL-URL:https://www.stocksport-noe.com
X-WR-CALDESC:Veranstaltungen für Niederösterreichischer Eisstocksportverband
REFRESH-INTERVAL;VALUE=DURATION:PT1H
X-Robots-Tag:noindex
X-PUBLISHED-TTL:PT1H
BEGIN:VTIMEZONE
TZID:Europe/Vienna
BEGIN:DAYLIGHT
TZOFFSETFROM:+0100
TZOFFSETTO:+0200
TZNAME:CEST
DTSTART:20180325T010000
END:DAYLIGHT
BEGIN:STANDARD
TZOFFSETFROM:+0200
TZOFFSETTO:+0100
TZNAME:CET
DTSTART:20181028T010000
END:STANDARD
END:VTIMEZONE
BEGIN:VEVENT
DTSTART;VALUE=DATE:20181230
DTEND;VALUE=DATE:20181231
DTSTAMP:20260420T124149
CREATED:20190101T154746Z
LAST-MODIFIED:20190101T154746Z
UID:4323-1546128000-1546214399@www.stocksport-noe.com
SUMMARY:Bezirksmeisterschaft Aspang 2018/2019
DESCRIPTION:zum Ergebnis
URL:https://www.stocksport-noe.com/termine/bezirksmeisterschaft-aspang-2018-2019/
LOCATION:Eishalle Zöbern\, Stübegg 77\, 2871 Aspang\, 2871\, Österreich
END:VEVENT
END:VCALENDAR